Package: igvShiny Version: 1.7.0 Command: /Library/Frameworks/R.framework/Resources/bin/R CMD INSTALL igvShiny StartedAt: 2025-11-13 15:10:54 -0500 (Thu, 13 Nov 2025) EndedAt: 2025-11-13 15:10:58 -0500 (Thu, 13 Nov 2025) EllapsedTime: 4.9 seconds RetCode: 0 Status: OK