Package: igvShiny Version: 1.7.0 Command: /Library/Frameworks/R.framework/Resources/bin/R CMD build --keep-empty-dirs --no-resave-data igvShiny StartedAt: 2025-11-13 16:44:34 -0500 (Thu, 13 Nov 2025) EndedAt: 2025-11-13 16:44:44 -0500 (Thu, 13 Nov 2025) EllapsedTime: 10.1 seconds RetCode: 0 Status: OK PackageFile: igvShiny_1.7.0.tar.gz PackageFileSize: 4.22 MiB