Package: igblastr Version: 1.1.0 Command: /home/biocbuild/bbs-3.23-bioc/R/bin/R CMD build --keep-empty-dirs --no-resave-data igblastr StartedAt: 2025-11-13 18:09:07 -0500 (Thu, 13 Nov 2025) EndedAt: 2025-11-13 18:14:18 -0500 (Thu, 13 Nov 2025) EllapsedTime: 310.3 seconds RetCode: 0 Status: OK PackageFile: igblastr_1.1.0.tar.gz PackageFileSize: 4.303 MiB