Package: igblastr Version: 1.1.0 Command: /Library/Frameworks/R.framework/Resources/bin/R CMD INSTALL igblastr StartedAt: 2025-11-13 15:08:50 -0500 (Thu, 13 Nov 2025) EndedAt: 2025-11-13 15:08:56 -0500 (Thu, 13 Nov 2025) EllapsedTime: 5.6 seconds RetCode: 0 Status: OK