Package: igblastr Version: 1.1.0 Command: /Library/Frameworks/R.framework/Resources/bin/R CMD build --keep-empty-dirs --no-resave-data igblastr StartedAt: 2025-11-13 16:44:13 -0500 (Thu, 13 Nov 2025) EndedAt: 2025-11-13 16:47:18 -0500 (Thu, 13 Nov 2025) EllapsedTime: 185.0 seconds RetCode: 0 Status: OK PackageFile: igblastr_1.1.0.tar.gz PackageFileSize: 4.14 MiB