Package: igblastr Version: 1.1.0 Maintainer: Hervé Pagès MaintainerEmail: hpages.on.github at gmail.com git_url: https://git.bioconductor.org/packages/igblastr git_branch: devel git_last_commit: fda6d20 git_last_commit_date: 2025-11-13 18:24:22 -0500 (Thu, 13 Nov 2025)