Package: idpr Version: 1.21.0 Command: /Library/Frameworks/R.framework/Resources/bin/R CMD INSTALL idpr StartedAt: 2025-11-14 15:09:21 -0500 (Fri, 14 Nov 2025) EndedAt: 2025-11-14 15:09:23 -0500 (Fri, 14 Nov 2025) EllapsedTime: 2.3 seconds RetCode: 0 Status: OK