Package: idpr Version: 1.21.0 Command: /Library/Frameworks/R.framework/Resources/bin/R CMD build --keep-empty-dirs --no-resave-data idpr StartedAt: 2025-11-14 16:40:54 -0500 (Fri, 14 Nov 2025) EndedAt: 2025-11-14 16:41:37 -0500 (Fri, 14 Nov 2025) EllapsedTime: 42.5 seconds RetCode: 0 Status: OK PackageFile: idpr_1.21.0.tar.gz PackageFileSize: 3.613 MiB