Package: idpr Version: 1.21.0 Command: rm -rf idpr.buildbin-libdir && mkdir idpr.buildbin-libdir && /Users/biocbuild/BBS/utils/build-universal.sh idpr_1.21.0.tar.gz /Library/Frameworks/R.framework/Resources/bin/R idpr.buildbin-libdir StartedAt: 2025-11-14 23:36:46 -0500 (Fri, 14 Nov 2025) EndedAt: 2025-11-14 23:36:50 -0500 (Fri, 14 Nov 2025) EllapsedTime: 4.1 seconds RetCode: 0 Status: OK PackageFile: idpr_1.21.0.tgz PackageFileSize: 3.703 MiB