Package: idiogram Version: 1.87.0 Command: /home/biocbuild/bbs-3.23-bioc/R/bin/R CMD INSTALL idiogram StartedAt: 2025-11-11 15:33:21 -0500 (Tue, 11 Nov 2025) EndedAt: 2025-11-11 15:33:36 -0500 (Tue, 11 Nov 2025) EllapsedTime: 15.8 seconds RetCode: 0 Status: OK