Package: idiogram Version: 1.87.0 Command: /home/biocbuild/bbs-3.23-bioc/R/bin/R CMD build --keep-empty-dirs --no-resave-data idiogram StartedAt: 2025-11-11 18:12:39 -0500 (Tue, 11 Nov 2025) EndedAt: 2025-11-11 18:13:02 -0500 (Tue, 11 Nov 2025) EllapsedTime: 23.0 seconds RetCode: 0 Status: OK PackageFile: idiogram_1.87.0.tar.gz PackageFileSize: 1.795 MiB