Package: idiogram Version: 1.87.0 Command: /Library/Frameworks/R.framework/Resources/bin/R CMD INSTALL idiogram StartedAt: 2025-11-12 15:32:33 -0500 (Wed, 12 Nov 2025) EndedAt: 2025-11-12 15:32:39 -0500 (Wed, 12 Nov 2025) EllapsedTime: 5.9 seconds RetCode: 0 Status: OK