Package: idiogram Version: 1.87.0 Command: /Library/Frameworks/R.framework/Resources/bin/R CMD build --keep-empty-dirs --no-resave-data idiogram StartedAt: 2025-11-12 16:30:27 -0500 (Wed, 12 Nov 2025) EndedAt: 2025-11-12 16:30:37 -0500 (Wed, 12 Nov 2025) EllapsedTime: 10.1 seconds RetCode: 0 Status: OK PackageFile: idiogram_1.87.0.tar.gz PackageFileSize: 1.795 MiB