Package: idiogram Version: 1.87.0 Command: rm -rf idiogram.buildbin-libdir && mkdir idiogram.buildbin-libdir && /Users/biocbuild/BBS/utils/build-universal.sh idiogram_1.87.0.tar.gz /Library/Frameworks/R.framework/Resources/bin/R idiogram.buildbin-libdir StartedAt: 2025-11-12 21:00:17 -0500 (Wed, 12 Nov 2025) EndedAt: 2025-11-12 21:00:25 -0500 (Wed, 12 Nov 2025) EllapsedTime: 8.2 seconds RetCode: 0 Status: OK PackageFile: idiogram_1.87.0.tgz PackageFileSize: 3.723 MiB