Package: idiogram Version: 1.87.0 Maintainer: Karl J. Dykema MaintainerEmail: karl.dykema at vai.org git_url: https://git.bioconductor.org/packages/idiogram git_branch: devel git_last_commit: 495914b git_last_commit_date: 2025-10-29 09:56:25 -0500 (Wed, 29 Oct 2025)