Package: ideal Version: 2.5.0 Command: /home/biocbuild/bbs-3.23-bioc/R/bin/R CMD INSTALL ideal StartedAt: 2025-11-11 15:53:46 -0500 (Tue, 11 Nov 2025) EndedAt: 2025-11-11 15:54:43 -0500 (Tue, 11 Nov 2025) EllapsedTime: 56.7 seconds RetCode: 0 Status: OK