Package: ideal Version: 2.5.0 Command: /home/biocbuild/bbs-3.23-bioc/R/bin/R CMD build --keep-empty-dirs --no-resave-data ideal StartedAt: 2025-11-11 18:12:27 -0500 (Tue, 11 Nov 2025) EndedAt: 2025-11-11 18:15:19 -0500 (Tue, 11 Nov 2025) EllapsedTime: 172.2 seconds RetCode: 0 Status: OK PackageFile: ideal_2.5.0.tar.gz PackageFileSize: 5.667 MiB