Package: ideal Version: 2.5.0 Command: /Library/Frameworks/R.framework/Resources/bin/R CMD INSTALL ideal StartedAt: 2025-11-12 15:43:09 -0500 (Wed, 12 Nov 2025) EndedAt: 2025-11-12 15:43:10 -0500 (Wed, 12 Nov 2025) EllapsedTime: 1.1 seconds RetCode: 1 Status: ERROR