Package: ideal Version: 2.5.0 Command: /Library/Frameworks/R.framework/Resources/bin/R CMD build --keep-empty-dirs --no-resave-data ideal StartedAt: 2025-11-12 16:30:26 -0500 (Wed, 12 Nov 2025) EndedAt: 2025-11-12 16:30:27 -0500 (Wed, 12 Nov 2025) EllapsedTime: 1.0 seconds RetCode: 1 Status: ERROR PackageFile: None PackageFileSize: NA