Package: ideal Version: 2.5.0 Maintainer: Federico Marini MaintainerEmail: marinif at uni-mainz.de git_url: https://git.bioconductor.org/packages/ideal git_branch: devel git_last_commit: 2ff36ae git_last_commit_date: 2025-10-29 10:38:28 -0500 (Wed, 29 Oct 2025)