Package: ibh Version: 1.59.0 Command: /home/biocbuild/bbs-3.23-bioc/R/bin/R CMD build --keep-empty-dirs --no-resave-data ibh StartedAt: 2025-11-11 18:11:45 -0500 (Tue, 11 Nov 2025) EndedAt: 2025-11-11 18:11:51 -0500 (Tue, 11 Nov 2025) EllapsedTime: 6.0 seconds RetCode: 0 Status: OK PackageFile: ibh_1.59.0.tar.gz PackageFileSize: 127.5 KiB