Package: ibh Version: 1.59.0 Command: /Library/Frameworks/R.framework/Resources/bin/R CMD build --keep-empty-dirs --no-resave-data ibh StartedAt: 2025-11-12 16:30:11 -0500 (Wed, 12 Nov 2025) EndedAt: 2025-11-12 16:30:15 -0500 (Wed, 12 Nov 2025) EllapsedTime: 4.1 seconds RetCode: 0 Status: OK PackageFile: ibh_1.59.0.tar.gz PackageFileSize: 127.5 KiB