Package: ibh Version: 1.59.0 Command: rm -rf ibh.buildbin-libdir && mkdir ibh.buildbin-libdir && /Users/biocbuild/BBS/utils/build-universal.sh ibh_1.59.0.tar.gz /Library/Frameworks/R.framework/Resources/bin/R ibh.buildbin-libdir StartedAt: 2025-11-12 21:00:13 -0500 (Wed, 12 Nov 2025) EndedAt: 2025-11-12 21:00:15 -0500 (Wed, 12 Nov 2025) EllapsedTime: 2.1 seconds RetCode: 0 Status: OK PackageFile: ibh_1.59.0.tgz PackageFileSize: 157.9 KiB