Package: iSeq Version: 1.63.0 Command: /home/biocbuild/bbs-3.23-bioc/R/bin/R CMD INSTALL iSeq StartedAt: 2025-11-13 15:03:20 -0500 (Thu, 13 Nov 2025) EndedAt: 2025-11-13 15:03:46 -0500 (Thu, 13 Nov 2025) EllapsedTime: 25.6 seconds RetCode: 0 Status: OK