Package: iSeq Version: 1.63.0 Command: /home/biocbuild/bbs-3.23-bioc/R/bin/R CMD build --keep-empty-dirs --no-resave-data iSeq StartedAt: 2025-11-14 18:15:33 -0500 (Fri, 14 Nov 2025) EndedAt: 2025-11-14 18:15:53 -0500 (Fri, 14 Nov 2025) EllapsedTime: 19.0 seconds RetCode: 0 Status: OK PackageFile: iSeq_1.63.0.tar.gz PackageFileSize: 1.326 MiB