Package: iSeq Version: 1.63.0 Command: /Library/Frameworks/R.framework/Resources/bin/R CMD INSTALL iSeq StartedAt: 2025-11-13 15:02:01 -0500 (Thu, 13 Nov 2025) EndedAt: 2025-11-13 15:02:11 -0500 (Thu, 13 Nov 2025) EllapsedTime: 10.2 seconds RetCode: 0 Status: OK