Package: iSeq Version: 1.63.0 Command: /Library/Frameworks/R.framework/Resources/bin/R CMD build --keep-empty-dirs --no-resave-data iSeq StartedAt: 2025-11-13 16:48:33 -0500 (Thu, 13 Nov 2025) EndedAt: 2025-11-13 16:48:44 -0500 (Thu, 13 Nov 2025) EllapsedTime: 11.1 seconds RetCode: 0 Status: OK PackageFile: iSeq_1.63.0.tar.gz PackageFileSize: 1.326 MiB