Package: iSeq Version: 1.63.0 Command: rm -rf iSeq.buildbin-libdir && mkdir iSeq.buildbin-libdir && /Users/biocbuild/BBS/utils/build-universal.sh iSeq_1.63.0.tar.gz /Library/Frameworks/R.framework/Resources/bin/R iSeq.buildbin-libdir StartedAt: 2025-11-13 23:42:31 -0500 (Thu, 13 Nov 2025) EndedAt: 2025-11-13 23:42:34 -0500 (Thu, 13 Nov 2025) EllapsedTime: 3.0 seconds RetCode: 0 Status: OK PackageFile: iSeq_1.63.0.tgz PackageFileSize: 1.543 MiB