Package: iSeq Version: 1.63.0 Maintainer: Qianxing Mo MaintainerEmail: qianxing.mo at moffitt.org git_url: https://git.bioconductor.org/packages/iSeq git_branch: devel git_last_commit: c340405 git_last_commit_date: 2025-10-29 10:05:51 -0500 (Wed, 29 Oct 2025)