Package: iSEEtree Version: 1.5.0 Command: /Library/Frameworks/R.framework/Resources/bin/R CMD INSTALL iSEEtree StartedAt: 2025-11-14 15:30:54 -0500 (Fri, 14 Nov 2025) EndedAt: 2025-11-14 15:31:13 -0500 (Fri, 14 Nov 2025) EllapsedTime: 18.8 seconds RetCode: 0 Status: OK