Package: iSEEtree Version: 1.5.0 Command: /Library/Frameworks/R.framework/Resources/bin/R CMD check --install=check:iSEEtree.install-out.txt --library=/Library/Frameworks/R.framework/Resources/library --no-vignettes --timings iSEEtree_1.5.0.tar.gz StartedAt: 2025-11-14 20:34:23 -0500 (Fri, 14 Nov 2025) EndedAt: 2025-11-14 20:37:02 -0500 (Fri, 14 Nov 2025) EllapsedTime: 159.0 seconds RetCode: 0 Status: OK CheckDir: iSEEtree.Rcheck Warnings: 0