Package: iSEEtree Version: 1.5.0 Command: rm -rf iSEEtree.buildbin-libdir && mkdir iSEEtree.buildbin-libdir && /Users/biocbuild/BBS/utils/build-universal.sh iSEEtree_1.5.0.tar.gz /Library/Frameworks/R.framework/Resources/bin/R iSEEtree.buildbin-libdir StartedAt: 2025-11-14 23:37:32 -0500 (Fri, 14 Nov 2025) EndedAt: 2025-11-14 23:37:56 -0500 (Fri, 14 Nov 2025) EllapsedTime: 24.6 seconds RetCode: 0 Status: OK PackageFile: iSEEtree_1.5.0.tgz PackageFileSize: 4.526 MiB