Package: iSEEpathways Version: 1.9.0 Command: /home/biocbuild/bbs-3.23-bioc/R/bin/R CMD INSTALL iSEEpathways StartedAt: 2025-11-14 15:25:12 -0500 (Fri, 14 Nov 2025) EndedAt: 2025-11-14 15:25:44 -0500 (Fri, 14 Nov 2025) EllapsedTime: 31.8 seconds RetCode: 0 Status: OK