Package: iSEEpathways Version: 1.9.0 Command: /home/biocbuild/bbs-3.23-bioc/R/bin/R CMD build --keep-empty-dirs --no-resave-data iSEEpathways StartedAt: 2025-11-13 18:15:13 -0500 (Thu, 13 Nov 2025) EndedAt: 2025-11-13 18:18:08 -0500 (Thu, 13 Nov 2025) EllapsedTime: 175.3 seconds RetCode: 0 Status: OK PackageFile: iSEEpathways_1.9.0.tar.gz PackageFileSize: 2.138 MiB