Package: iSEEpathways Version: 1.9.0 Maintainer: Kevin Rue-Albrecht MaintainerEmail: kevinrue67 at gmail.com git_url: https://git.bioconductor.org/packages/iSEEpathways git_branch: devel git_last_commit: 2f932af git_last_commit_date: 2025-10-29 11:25:06 -0500 (Wed, 29 Oct 2025)