Package: iSEEhub Version: 1.13.0 Command: /Library/Frameworks/R.framework/Resources/bin/R CMD INSTALL iSEEhub StartedAt: 2025-11-13 15:15:14 -0500 (Thu, 13 Nov 2025) EndedAt: 2025-11-13 15:15:28 -0500 (Thu, 13 Nov 2025) EllapsedTime: 14.3 seconds RetCode: 0 Status: OK