Package: iSEEhub Version: 1.13.0 Command: /Library/Frameworks/R.framework/Resources/bin/R CMD build --keep-empty-dirs --no-resave-data iSEEhub StartedAt: 2025-11-12 16:33:08 -0500 (Wed, 12 Nov 2025) EndedAt: 2025-11-12 16:33:32 -0500 (Wed, 12 Nov 2025) EllapsedTime: 24.3 seconds RetCode: 0 Status: OK PackageFile: iSEEhub_1.13.0.tar.gz PackageFileSize: 6.619 MiB