Package: iSEEhub Version: 1.13.0 Command: rm -rf iSEEhub.buildbin-libdir && mkdir iSEEhub.buildbin-libdir && /Users/biocbuild/BBS/utils/build-universal.sh iSEEhub_1.13.0.tar.gz /Library/Frameworks/R.framework/Resources/bin/R iSEEhub.buildbin-libdir StartedAt: 2025-11-13 23:42:24 -0500 (Thu, 13 Nov 2025) EndedAt: 2025-11-13 23:42:43 -0500 (Thu, 13 Nov 2025) EllapsedTime: 18.4 seconds RetCode: 0 Status: OK PackageFile: iSEEhub_1.13.0.tgz PackageFileSize: 3.687 MiB