Package: iSEE Version: 2.23.1 Command: /Library/Frameworks/R.framework/Resources/bin/R CMD build --keep-empty-dirs --no-resave-data iSEE StartedAt: 2025-11-19 16:45:19 -0500 (Wed, 19 Nov 2025) EndedAt: 2025-11-19 16:46:14 -0500 (Wed, 19 Nov 2025) EllapsedTime: 54.6 seconds RetCode: 0 Status: OK PackageFile: iSEE_2.23.1.tar.gz PackageFileSize: 25.61 MiB