Package: iSEE Version: 2.23.0 Command: rm -rf iSEE.buildbin-libdir && mkdir iSEE.buildbin-libdir && /Users/biocbuild/BBS/utils/build-universal.sh iSEE_2.23.0.tar.gz /Library/Frameworks/R.framework/Resources/bin/R iSEE.buildbin-libdir StartedAt: 2025-11-16 23:38:34 -0500 (Sun, 16 Nov 2025) EndedAt: 2025-11-16 23:38:56 -0500 (Sun, 16 Nov 2025) EllapsedTime: 22.5 seconds RetCode: 0 Status: OK PackageFile: iSEE_2.23.0.tgz PackageFileSize: 22.45 MiB