Package: iPath Version: 1.17.0 Command: /home/biocbuild/bbs-3.23-bioc/R/bin/R CMD INSTALL iPath StartedAt: 2025-11-14 15:11:58 -0500 (Fri, 14 Nov 2025) EndedAt: 2025-11-14 15:12:24 -0500 (Fri, 14 Nov 2025) EllapsedTime: 26.5 seconds RetCode: 0 Status: OK