Package: iPath Version: 1.17.0 Command: /home/biocbuild/bbs-3.23-bioc/R/bin/R CMD build --keep-empty-dirs --no-resave-data iPath StartedAt: 2025-11-14 18:13:59 -0500 (Fri, 14 Nov 2025) EndedAt: 2025-11-14 18:14:31 -0500 (Fri, 14 Nov 2025) EllapsedTime: 32.1 seconds RetCode: 1 Status: ERROR PackageFile: None PackageFileSize: NA