Package: iPath Version: 1.17.0 Command: /Library/Frameworks/R.framework/Resources/bin/R CMD INSTALL iPath StartedAt: 2025-11-13 15:06:15 -0500 (Thu, 13 Nov 2025) EndedAt: 2025-11-13 15:06:26 -0500 (Thu, 13 Nov 2025) EllapsedTime: 10.9 seconds RetCode: 0 Status: OK