Package: iPath Version: 1.17.0 Command: /Library/Frameworks/R.framework/Resources/bin/R CMD build --keep-empty-dirs --no-resave-data iPath StartedAt: 2025-11-13 16:47:27 -0500 (Thu, 13 Nov 2025) EndedAt: 2025-11-13 16:47:41 -0500 (Thu, 13 Nov 2025) EllapsedTime: 13.1 seconds RetCode: 1 Status: ERROR PackageFile: None PackageFileSize: NA