Package: iPath Version: 1.17.0 Maintainer: Kenong Su MaintainerEmail: kenong.su at emory.edu git_url: https://git.bioconductor.org/packages/iPath git_branch: devel git_last_commit: f49c338 git_last_commit_date: 2025-10-29 11:10:58 -0500 (Wed, 29 Oct 2025)