Package: iNETgrate Version: 1.9.0 Command: /home/biocbuild/bbs-3.23-bioc/R/bin/R CMD INSTALL iNETgrate StartedAt: 2025-11-11 16:03:18 -0500 (Tue, 11 Nov 2025) EndedAt: 2025-11-11 16:04:18 -0500 (Tue, 11 Nov 2025) EllapsedTime: 60.1 seconds RetCode: 0 Status: OK