Package: iNETgrate Version: 1.9.0 Command: /home/biocbuild/bbs-3.23-bioc/R/bin/R CMD build --keep-empty-dirs --no-resave-data iNETgrate StartedAt: 2025-11-13 18:11:37 -0500 (Thu, 13 Nov 2025) EndedAt: 2025-11-13 18:15:16 -0500 (Thu, 13 Nov 2025) EllapsedTime: 218.2 seconds RetCode: 0 Status: OK PackageFile: iNETgrate_1.9.0.tar.gz PackageFileSize: 3.979 MiB