Package: iNETgrate Version: 1.9.0 Command: /Library/Frameworks/R.framework/Resources/bin/R CMD INSTALL iNETgrate StartedAt: 2025-11-12 15:46:15 -0500 (Wed, 12 Nov 2025) EndedAt: 2025-11-12 15:46:16 -0500 (Wed, 12 Nov 2025) EllapsedTime: 1.1 seconds RetCode: 1 Status: ERROR