############################################################################## ############################################################################## ### ### Running command: ### ### /Library/Frameworks/R.framework/Resources/bin/R CMD build --keep-empty-dirs --no-resave-data iNETgrate ### ############################################################################## ############################################################################## * checking for file ‘iNETgrate/DESCRIPTION’ ... OK * preparing ‘iNETgrate’: * checking DESCRIPTION meta-information ... OK * installing the package (it is needed to build vignettes) ----------------------------------- ERROR: dependency ‘minfi’ is not available for package ‘iNETgrate’ Perhaps try a variation of: install.packages('minfi') * removing ‘/private/var/folders/r0/l4fjk6cj5xj0j3brt4bplpl40000gt/T/RtmpBjZBBN/Rinst1353d7ad40468/iNETgrate’ ----------------------------------- ERROR: package installation failed