Package: iNETgrate Version: 1.9.0 Maintainer: Habil Zare MaintainerEmail: zare at u.washington.edu git_url: https://git.bioconductor.org/packages/iNETgrate git_branch: devel git_last_commit: 81fc611 git_last_commit_date: 2025-10-29 11:23:49 -0500 (Wed, 29 Oct 2025)